BEGIN:VCALENDAR
VERSION:2.0
PRODID:-//ZContent.net//ZapCalLib 1.0//EN
CALSCALE:GREGORIAN
METHOD:PUBLISH
BEGIN:VEVENT
UID:69e63b8f98171@usbands.org
SUMMARY:Lenape Valley Marching Band Festival
DTSTART:20211002T165000
DTEND:20211002T205000
DTSTAMP:20260420T144327
LOCATION:Stanhope\, NJ
DESCRIPTION:Lenape Valley Marching Band Festival
END:VEVENT
END:VCALENDAR
