BEGIN:VCALENDAR
VERSION:2.0
PRODID:-//ZContent.net//ZapCalLib 1.0//EN
CALSCALE:GREGORIAN
METHOD:PUBLISH
BEGIN:VEVENT
UID:69e63b8fd60fe@usbands.org
SUMMARY:Lenape High School Band Competition
DTSTART:20211002T142500
DTEND:20211002T210000
DTSTAMP:20260420T144327
LOCATION:Medford\, NJ
DESCRIPTION:Lenape High School Band Competition
END:VEVENT
END:VCALENDAR
