BEGIN:VCALENDAR
VERSION:2.0
PRODID:-//ZContent.net//ZapCalLib 1.0//EN
CALSCALE:GREGORIAN
METHOD:PUBLISH
BEGIN:VEVENT
UID:69e63b6706e8f@usbands.org
SUMMARY:Brien McMahon HS - Celebration of Sound
DTSTART:20211002T132500
DTEND:20211002T210000
DTSTAMP:20260420T144247
LOCATION:Norwalk\, CT
DESCRIPTION:Brien McMahon HS - Celebration of Sound
END:VEVENT
END:VCALENDAR
