BEGIN:VCALENDAR
VERSION:2.0
PRODID:-//ZContent.net//ZapCalLib 1.0//EN
CALSCALE:GREGORIAN
METHOD:PUBLISH
BEGIN:VEVENT
UID:69e63b2dc74cd@usbands.org
SUMMARY:Central Bucks HS South - Sights & Sounds at CB South
DTSTART:20211002T135000
DTEND:20211002T220000
DTSTAMP:20260420T144149
LOCATION:Warrington\, PA
DESCRIPTION:Central Bucks HS South - Sights & Sounds at CB South
END:VEVENT
END:VCALENDAR
