BEGIN:VCALENDAR
VERSION:2.0
PRODID:-//ZContent.net//ZapCalLib 1.0//EN
CALSCALE:GREGORIAN
METHOD:PUBLISH
BEGIN:VEVENT
UID:69e63b8f50280@usbands.org
SUMMARY:Cheshire HS - 37th Annual Music in Motion
DTSTART:20211009T140000
DTEND:20211009T210000
DTSTAMP:20260420T144327
LOCATION:Cheshire\, CT
DESCRIPTION:Cheshire HS - 37th Annual Music in Motion
END:VEVENT
END:VCALENDAR
