BEGIN:VCALENDAR
VERSION:2.0
PRODID:-//ZContent.net//ZapCalLib 1.0//EN
CALSCALE:GREGORIAN
METHOD:PUBLISH
BEGIN:VEVENT
UID:69e63b9050b00@usbands.org
SUMMARY:Rockville HS - Festival of Bands
DTSTART:20211009T135000
DTEND:20211009T210000
DTSTAMP:20260420T144328
LOCATION:Vernon\, CT
DESCRIPTION:Rockville HS - Festival of Bands
END:VEVENT
END:VCALENDAR
