BEGIN:VCALENDAR
VERSION:2.0
PRODID:-//ZContent.net//ZapCalLib 1.0//EN
CALSCALE:GREGORIAN
METHOD:PUBLISH
BEGIN:VEVENT
UID:69e63b9066510@usbands.org
SUMMARY:King Philip High School Home Show
DTSTART:20211009T145500
DTEND:20211009T210000
DTSTAMP:20260420T144328
LOCATION:Wrentham\, MA
DESCRIPTION:King Philip High School Home Show
END:VEVENT
END:VCALENDAR
