BEGIN:VCALENDAR
VERSION:2.0
PRODID:-//ZContent.net//ZapCalLib 1.0//EN
CALSCALE:GREGORIAN
METHOD:PUBLISH
BEGIN:VEVENT
UID:69e63b8f0df66@usbands.org
SUMMARY:Hanover Park High School
DTSTART:20211009T125500
DTEND:20211009T210000
DTSTAMP:20260420T144327
LOCATION:East Hanover\, NJ
DESCRIPTION:Hanover Park High School
END:VEVENT
END:VCALENDAR
