BEGIN:VCALENDAR
VERSION:2.0
PRODID:-//ZContent.net//ZapCalLib 1.0//EN
CALSCALE:GREGORIAN
METHOD:PUBLISH
BEGIN:VEVENT
UID:69e63b2dd077d@usbands.org
SUMMARY:North Warren Regional High School
DTSTART:20211009T112000
DTEND:20211009T210000
DTSTAMP:20260420T144149
LOCATION:Blairstown\, NJ
DESCRIPTION:North Warren Regional High School
END:VEVENT
END:VCALENDAR
