BEGIN:VCALENDAR
VERSION:2.0
PRODID:-//ZContent.net//ZapCalLib 1.0//EN
CALSCALE:GREGORIAN
METHOD:PUBLISH
BEGIN:VEVENT
UID:69e63b8ebd5ed@usbands.org
SUMMARY:Somerville High School
DTSTART:20211009T132500
DTEND:20211009T210000
DTSTAMP:20260420T144326
LOCATION:Somerville\, NJ
DESCRIPTION:Somerville High School
END:VEVENT
END:VCALENDAR
