BEGIN:VCALENDAR
VERSION:2.0
PRODID:-//ZContent.net//ZapCalLib 1.0//EN
CALSCALE:GREGORIAN
METHOD:PUBLISH
BEGIN:VEVENT
UID:69e63b2e0313d@usbands.org
SUMMARY:North Brunswick Township High School
DTSTART:20211009T135000
DTEND:20211009T210000
DTSTAMP:20260420T144150
LOCATION:North Brunswick\, NJ
DESCRIPTION:North Brunswick Township High School
END:VEVENT
END:VCALENDAR
