BEGIN:VCALENDAR
VERSION:2.0
PRODID:-//ZContent.net//ZapCalLib 1.0//EN
CALSCALE:GREGORIAN
METHOD:PUBLISH
BEGIN:VEVENT
UID:69e63b2dc29ed@usbands.org
SUMMARY:Jackson Memorial HS - Showcase of Champions
DTSTART:20211009T152000
DTEND:20211009T210000
DTSTAMP:20260420T144149
LOCATION:Jackson\, NJ
DESCRIPTION:Jackson Memorial HS - Showcase of Champions
END:VEVENT
END:VCALENDAR
