BEGIN:VCALENDAR
VERSION:2.0
PRODID:-//ZContent.net//ZapCalLib 1.0//EN
CALSCALE:GREGORIAN
METHOD:PUBLISH
BEGIN:VEVENT
UID:69e638c097b7a@usbands.org
SUMMARY:Seneca Showcase
DTSTART:20211009T145500
DTEND:20211009T210000
DTSTAMP:20260420T143128
LOCATION:Tabernacle\, NJ
DESCRIPTION:Seneca Showcase
END:VEVENT
END:VCALENDAR
