BEGIN:VCALENDAR
VERSION:2.0
PRODID:-//ZContent.net//ZapCalLib 1.0//EN
CALSCALE:GREGORIAN
METHOD:PUBLISH
BEGIN:VEVENT
UID:69e63b66e7449@usbands.org
SUMMARY:Bergenfield HS - Bergen County Invitational
DTSTART:20211010T095500
DTEND:20211010T090100
DTSTAMP:20260420T144246
LOCATION:Bergenfield\, NJ
DESCRIPTION:Bergenfield HS - Bergen County Invitational
END:VEVENT
END:VCALENDAR
