BEGIN:VCALENDAR
VERSION:2.0
PRODID:-//ZContent.net//ZapCalLib 1.0//EN
CALSCALE:GREGORIAN
METHOD:PUBLISH
BEGIN:VEVENT
UID:69e63b8f66e36@usbands.org
SUMMARY:Perkiomen Valley Music in the Valley
DTSTART:20211009T145000
DTEND:20211009T210000
DTSTAMP:20260420T144327
LOCATION:Collegeville\, PA
DESCRIPTION:Perkiomen Valley Music in the Valley
END:VEVENT
END:VCALENDAR
