BEGIN:VCALENDAR
VERSION:2.0
PRODID:-//ZContent.net//ZapCalLib 1.0//EN
CALSCALE:GREGORIAN
METHOD:PUBLISH
BEGIN:VEVENT
UID:69e63b8fbf40d@usbands.org
SUMMARY:Thunderbolt Invitational - Cranston East HS
DTSTART:20211016T145500
DTEND:20211016T210000
DTSTAMP:20260420T144327
LOCATION:Cranston\, RI
DESCRIPTION:Thunderbolt Invitational - Cranston East HS
END:VEVENT
END:VCALENDAR
