BEGIN:VCALENDAR
VERSION:2.0
PRODID:-//ZContent.net//ZapCalLib 1.0//EN
CALSCALE:GREGORIAN
METHOD:PUBLISH
BEGIN:VEVENT
UID:69e63b2e2fc2c@usbands.org
SUMMARY:Pequannock Township HS Marching Band Festival
DTSTART:20211016T142500
DTEND:20211016T201500
DTSTAMP:20260420T144150
LOCATION:Pompton Plains\, NJ
DESCRIPTION:Pequannock Township HS Marching Band Festival
END:VEVENT
END:VCALENDAR
