BEGIN:VCALENDAR
VERSION:2.0
PRODID:-//ZContent.net//ZapCalLib 1.0//EN
CALSCALE:GREGORIAN
METHOD:PUBLISH
BEGIN:VEVENT
UID:69e63b8fa8ced@usbands.org
SUMMARY:Mount Olive HS - 36th Annual MOHS Competition
DTSTART:20211016T143000
DTEND:20211016T210000
DTSTAMP:20260420T144327
LOCATION:Flanders\, NJ
DESCRIPTION:Mount Olive HS - 36th Annual MOHS Competition
END:VEVENT
END:VCALENDAR
