BEGIN:VCALENDAR
VERSION:2.0
PRODID:-//ZContent.net//ZapCalLib 1.0//EN
CALSCALE:GREGORIAN
METHOD:PUBLISH
BEGIN:VEVENT
UID:69e63b66c90eb@usbands.org
SUMMARY:Hillsborough HS - 27th Annual Raider Band Festival
DTSTART:20211016T125500
DTEND:20211016T210000
DTSTAMP:20260420T144246
LOCATION:Hillsborough\, NJ
DESCRIPTION:Hillsborough HS - 27th Annual Raider Band Festival
END:VEVENT
END:VCALENDAR
