BEGIN:VCALENDAR
VERSION:2.0
PRODID:-//ZContent.net//ZapCalLib 1.0//EN
CALSCALE:GREGORIAN
METHOD:PUBLISH
BEGIN:VEVENT
UID:69e63b67e4ad2@usbands.org
SUMMARY:Steinert High School Music in Motion - DAY
DTSTART:20211009T085500
DTEND:20211009T210000
DTSTAMP:20260420T144247
LOCATION:Hamilton\, NJ
DESCRIPTION:Steinert High School Music in Motion - DAY
END:VEVENT
END:VCALENDAR
