BEGIN:VCALENDAR
VERSION:2.0
PRODID:-//ZContent.net//ZapCalLib 1.0//EN
CALSCALE:GREGORIAN
METHOD:PUBLISH
BEGIN:VEVENT
UID:69e63b9092d9a@usbands.org
SUMMARY:Matawan HS - Bayshore Band Competition
DTSTART:20211016T125000
DTEND:20211016T210000
DTSTAMP:20260420T144328
LOCATION:Aberdeen\, NJ
DESCRIPTION:Matawan HS - Bayshore Band Competition
END:VEVENT
END:VCALENDAR
