BEGIN:VCALENDAR
VERSION:2.0
PRODID:-//ZContent.net//ZapCalLib 1.0//EN
CALSCALE:GREGORIAN
METHOD:PUBLISH
BEGIN:VEVENT
UID:69e638c00ea69@usbands.org
SUMMARY:Newtown HS - Joseph P. Grasso Marching Band Festival
DTSTART:20211016T095000
DTEND:20211016T213000
DTSTAMP:20260420T143128
LOCATION:Sandy Hook\, CT
DESCRIPTION:Newtown HS - Joseph P. Grasso Marching Band Festival
END:VEVENT
END:VCALENDAR
