BEGIN:VCALENDAR
VERSION:2.0
PRODID:-//ZContent.net//ZapCalLib 1.0//EN
CALSCALE:GREGORIAN
METHOD:PUBLISH
BEGIN:VEVENT
UID:69e638f7ef329@usbands.org
SUMMARY:Lyman Hall High School
DTSTART:20211016T135000
DTEND:20211016T210000
DTSTAMP:20260420T143223
LOCATION:Wallingford\, CT
DESCRIPTION:Lyman Hall High School
END:VEVENT
END:VCALENDAR
