BEGIN:VCALENDAR
VERSION:2.0
PRODID:-//ZContent.net//ZapCalLib 1.0//EN
CALSCALE:GREGORIAN
METHOD:PUBLISH
BEGIN:VEVENT
UID:69e638f896a2a@usbands.org
SUMMARY:Bunnell Cavalcade of Bands
DTSTART:20211023T134000
DTEND:20211023T210000
DTSTAMP:20260420T143224
LOCATION:Stratford\, CT
DESCRIPTION:Bunnell Cavalcade of Bands
END:VEVENT
END:VCALENDAR
