BEGIN:VCALENDAR
VERSION:2.0
PRODID:-//ZContent.net//ZapCalLib 1.0//EN
CALSCALE:GREGORIAN
METHOD:PUBLISH
BEGIN:VEVENT
UID:69e63b2dbdb4f@usbands.org
SUMMARY:Southington HS - Music of the Knight
DTSTART:20211023T114000
DTEND:20211023T210000
DTSTAMP:20260420T144149
LOCATION:Southington\, CT
DESCRIPTION:Southington HS - Music of the Knight
END:VEVENT
END:VCALENDAR
