BEGIN:VCALENDAR
VERSION:2.0
PRODID:-//ZContent.net//ZapCalLib 1.0//EN
CALSCALE:GREGORIAN
METHOD:PUBLISH
BEGIN:VEVENT
UID:69e63b8f8f678@usbands.org
SUMMARY:Robert E. Fitch High School
DTSTART:20211023T135500
DTEND:20211023T210000
DTSTAMP:20260420T144327
LOCATION:Groton\, CT
DESCRIPTION:Robert E. Fitch High School
END:VEVENT
END:VCALENDAR
