BEGIN:VCALENDAR
VERSION:2.0
PRODID:-//ZContent.net//ZapCalLib 1.0//EN
CALSCALE:GREGORIAN
METHOD:PUBLISH
BEGIN:VEVENT
UID:69e63b2dc8f8c@usbands.org
SUMMARY:Burley Senior HS - Magic Valley Classic
DTSTART:20211023T090000
DTEND:20211023T210000
DTSTAMP:20260420T144149
LOCATION:Burley\, ID
DESCRIPTION:Burley Senior HS - Magic Valley Classic
END:VEVENT
END:VCALENDAR
