BEGIN:VCALENDAR
VERSION:2.0
PRODID:-//ZContent.net//ZapCalLib 1.0//EN
CALSCALE:GREGORIAN
METHOD:PUBLISH
BEGIN:VEVENT
UID:69e63b8f3a458@usbands.org
SUMMARY:Fair Lawn High School
DTSTART:20211023T102500
DTEND:20211023T210000
DTSTAMP:20260420T144327
LOCATION:Fair Lawn\, NJ
DESCRIPTION:Fair Lawn High School
END:VEVENT
END:VCALENDAR
