BEGIN:VCALENDAR
VERSION:2.0
PRODID:-//ZContent.net//ZapCalLib 1.0//EN
CALSCALE:GREGORIAN
METHOD:PUBLISH
BEGIN:VEVENT
UID:69e63b675fbdc@usbands.org
SUMMARY:Vernon Township HS Music in the Mountains
DTSTART:20211023T152000
DTEND:20211023T210000
DTSTAMP:20260420T144247
LOCATION:Vernon\, NJ
DESCRIPTION:Vernon Township HS Music in the Mountains
END:VEVENT
END:VCALENDAR
