BEGIN:VCALENDAR
VERSION:2.0
PRODID:-//ZContent.net//ZapCalLib 1.0//EN
CALSCALE:GREGORIAN
METHOD:PUBLISH
BEGIN:VEVENT
UID:69e63b2e46608@usbands.org
SUMMARY:Robbinsville HS Rhapsody
DTSTART:20211023T102500
DTEND:20211023T210000
DTSTAMP:20260420T144150
LOCATION:Robbinsville\, NJ
DESCRIPTION:Robbinsville HS Rhapsody
END:VEVENT
END:VCALENDAR
