BEGIN:VCALENDAR
VERSION:2.0
PRODID:-//ZContent.net//ZapCalLib 1.0//EN
CALSCALE:GREGORIAN
METHOD:PUBLISH
BEGIN:VEVENT
UID:69e638c06b991@usbands.org
SUMMARY:Blackstone-Millville HS (at Bellingham HS)
DTSTART:20210925T145500
DTEND:20210925T210000
DTSTAMP:20260420T143128
LOCATION:Bellingham\, MA
DESCRIPTION:Blackstone-Millville HS (at Bellingham HS)
END:VEVENT
END:VCALENDAR
