BEGIN:VCALENDAR
VERSION:2.0
PRODID:-//ZContent.net//ZapCalLib 1.0//EN
CALSCALE:GREGORIAN
METHOD:PUBLISH
BEGIN:VEVENT
UID:69e62e4f0db85@usbands.org
SUMMARY:USBands Show Up and Show Out on "The Hill"
DTSTART:20211030T115500
DTEND:20211030T190000
DTSTAMP:20260420T134655
LOCATION:Prairie View\, TX
DESCRIPTION:USBands Show Up and Show Out on "The Hill"
END:VEVENT
END:VCALENDAR
