BEGIN:VCALENDAR
VERSION:2.0
PRODID:-//ZContent.net//ZapCalLib 1.0//EN
CALSCALE:GREGORIAN
METHOD:PUBLISH
BEGIN:VEVENT
UID:69e638f83d6bd@usbands.org
SUMMARY:USBands New England State Championships
DTSTART:20211101T151000
DTEND:20211101T190000
DTSTAMP:20260420T143224
LOCATION:Vernon\, CT
DESCRIPTION:USBands New England State Championships
END:VEVENT
END:VCALENDAR
