BEGIN:VCALENDAR
VERSION:2.0
PRODID:-//ZContent.net//ZapCalLib 1.0//EN
CALSCALE:GREGORIAN
METHOD:PUBLISH
BEGIN:VEVENT
UID:69e63b2dcd58a@usbands.org
SUMMARY:USBands New England State Championships
DTSTART:20211103T131000
DTEND:20211103T190000
DTSTAMP:20260420T144149
LOCATION:New Britain\, CT
DESCRIPTION:USBands New England State Championships
END:VEVENT
END:VCALENDAR
