BEGIN:VCALENDAR
VERSION:2.0
PRODID:-//ZContent.net//ZapCalLib 1.0//EN
CALSCALE:GREGORIAN
METHOD:PUBLISH
BEGIN:VEVENT
UID:69e623b04ee11@usbands.org
SUMMARY:USBands Percussion @ West Milford
DTSTART:20220219T140000
DTEND:20220219T190000
DTSTAMP:20260420T130136
LOCATION:West Milford\, NJ
DESCRIPTION:USBands Percussion @ West Milford
END:VEVENT
END:VCALENDAR
