BEGIN:VCALENDAR
VERSION:2.0
PRODID:-//ZContent.net//ZapCalLib 1.0//EN
CALSCALE:GREGORIAN
METHOD:PUBLISH
BEGIN:VEVENT
UID:69e610cf567a6@usbands.org
SUMMARY:USBands Percussion @ Fair Lawn
DTSTART:20220305T130000
DTEND:20220305T190000
DTSTAMP:20260420T114103
LOCATION:Fair Lawn\, NJ
DESCRIPTION:USBands Percussion @ Fair Lawn
END:VEVENT
END:VCALENDAR
