BEGIN:VCALENDAR
VERSION:2.0
PRODID:-//ZContent.net//ZapCalLib 1.0//EN
CALSCALE:GREGORIAN
METHOD:PUBLISH
BEGIN:VEVENT
UID:69e610cb26ea0@usbands.org
SUMMARY:USBands Percussion Championships @ Somerville (BCMS)
DTSTART:20220402T114500
DTEND:20220402T190000
DTSTAMP:20260420T114059
LOCATION:Somerville\, NJ
DESCRIPTION:USBands Percussion Championships @ Somerville (BCMS)
END:VEVENT
END:VCALENDAR
