BEGIN:VCALENDAR
VERSION:2.0
PRODID:-//ZContent.net//ZapCalLib 1.0//EN
CALSCALE:GREGORIAN
METHOD:PUBLISH
BEGIN:VEVENT
UID:69e623b0518de@usbands.org
SUMMARY:USBands Percussion @ Wayne Valley
DTSTART:20220226T142000
DTEND:20220226T200000
DTSTAMP:20260420T130136
LOCATION:Wayne\, NJ
DESCRIPTION:USBands Percussion @ Wayne Valley
END:VEVENT
END:VCALENDAR
