BEGIN:VCALENDAR
VERSION:2.0
PRODID:-//ZContent.net//ZapCalLib 1.0//EN
CALSCALE:GREGORIAN
METHOD:PUBLISH
BEGIN:VEVENT
UID:69e610c783834@usbands.org
SUMMARY:Edison High School
DTSTART:20220910T085000
DTEND:20220910T145000
DTSTAMP:20260420T114055
LOCATION:Edison\, NJ
DESCRIPTION:Edison High School
END:VEVENT
END:VCALENDAR
