BEGIN:VCALENDAR
VERSION:2.0
PRODID:-//ZContent.net//ZapCalLib 1.0//EN
CALSCALE:GREGORIAN
METHOD:PUBLISH
BEGIN:VEVENT
UID:69e610cd685b1@usbands.org
SUMMARY:Bethel High School
DTSTART:20220910T145000
DTEND:20220910T190000
DTSTAMP:20260420T114101
LOCATION:Bethel\, CT
DESCRIPTION:Bethel High School
END:VEVENT
END:VCALENDAR
