BEGIN:VCALENDAR
VERSION:2.0
PRODID:-//ZContent.net//ZapCalLib 1.0//EN
CALSCALE:GREGORIAN
METHOD:PUBLISH
BEGIN:VEVENT
UID:69e610c95b596@usbands.org
SUMMARY:Rustin High School
DTSTART:20220917T145000
DTEND:20220917T185800
DTSTAMP:20260420T114057
LOCATION:West Chester\, PA
DESCRIPTION:Rustin High School
END:VEVENT
END:VCALENDAR
