BEGIN:VCALENDAR
VERSION:2.0
PRODID:-//ZContent.net//ZapCalLib 1.0//EN
CALSCALE:GREGORIAN
METHOD:PUBLISH
BEGIN:VEVENT
UID:69e610ca2e958@usbands.org
SUMMARY:Burlington City High School
DTSTART:20221008T145000
DTEND:20221008T180000
DTSTAMP:20260420T114058
LOCATION:Burlington\, NJ
DESCRIPTION:Burlington City High School
END:VEVENT
END:VCALENDAR
