BEGIN:VCALENDAR
VERSION:2.0
PRODID:-//ZContent.net//ZapCalLib 1.0//EN
CALSCALE:GREGORIAN
METHOD:PUBLISH
BEGIN:VEVENT
UID:69e610cd3bb9f@usbands.org
SUMMARY:Seneca High School
DTSTART:20221015T145000
DTEND:20221015T180300
DTSTAMP:20260420T114101
LOCATION:Tabernacle\, NJ
DESCRIPTION:Seneca High School
END:VEVENT
END:VCALENDAR
