BEGIN:VCALENDAR
VERSION:2.0
PRODID:-//ZContent.net//ZapCalLib 1.0//EN
CALSCALE:GREGORIAN
METHOD:PUBLISH
BEGIN:VEVENT
UID:69e610cb38bb3@usbands.org
SUMMARY:New Milford High School
DTSTART:20220924T151500
DTEND:20220924T180000
DTSTAMP:20260420T114059
LOCATION:New Milford\, CT
DESCRIPTION:New Milford High School
END:VEVENT
END:VCALENDAR
