BEGIN:VCALENDAR
VERSION:2.0
PRODID:-//ZContent.net//ZapCalLib 1.0//EN
CALSCALE:GREGORIAN
METHOD:PUBLISH
BEGIN:VEVENT
UID:69e610ce3bfd1@usbands.org
SUMMARY:Rocky Hill High School
DTSTART:20220924T145000
DTEND:20220924T190600
DTSTAMP:20260420T114102
LOCATION:Rocky Hill\, CT
DESCRIPTION:Rocky Hill High School
END:VEVENT
END:VCALENDAR
