BEGIN:VCALENDAR
VERSION:2.0
PRODID:-//ZContent.net//ZapCalLib 1.0//EN
CALSCALE:GREGORIAN
METHOD:PUBLISH
BEGIN:VEVENT
UID:69e6267e0b221@usbands.org
SUMMARY:Trumbull High School
DTSTART:20220924T150000
DTEND:20220924T180800
DTSTAMP:20260420T131334
LOCATION:Trumbull\, CT
DESCRIPTION:Trumbull High School
END:VEVENT
END:VCALENDAR
