BEGIN:VCALENDAR
VERSION:2.0
PRODID:-//ZContent.net//ZapCalLib 1.0//EN
CALSCALE:GREGORIAN
METHOD:PUBLISH
BEGIN:VEVENT
UID:69e610cdc146d@usbands.org
SUMMARY:Blackstone-Millville High School
DTSTART:20220924T150000
DTEND:20220924T221300
DTSTAMP:20260420T114101
LOCATION:Medway\, MA
DESCRIPTION:Blackstone-Millville High School
END:VEVENT
END:VCALENDAR
