BEGIN:VCALENDAR
VERSION:2.0
PRODID:-//ZContent.net//ZapCalLib 1.0//EN
CALSCALE:GREGORIAN
METHOD:PUBLISH
BEGIN:VEVENT
UID:69e610ca05390@usbands.org
SUMMARY:Chopticon High School
DTSTART:20220924T115000
DTEND:20220924T141400
DTSTAMP:20260420T114058
LOCATION:Morganza\, MD
DESCRIPTION:Chopticon High School
END:VEVENT
END:VCALENDAR
