BEGIN:VCALENDAR
VERSION:2.0
PRODID:-//ZContent.net//ZapCalLib 1.0//EN
CALSCALE:GREGORIAN
METHOD:PUBLISH
BEGIN:VEVENT
UID:69e610c756f77@usbands.org
SUMMARY:Quakertown Community High School
DTSTART:20220924T145000
DTEND:20220924T191400
DTSTAMP:20260420T114055
LOCATION:Quakertown\, PA
DESCRIPTION:Quakertown Community High School
END:VEVENT
END:VCALENDAR
