BEGIN:VCALENDAR
VERSION:2.0
PRODID:-//ZContent.net//ZapCalLib 1.0//EN
CALSCALE:GREGORIAN
METHOD:PUBLISH
BEGIN:VEVENT
UID:69e610c887a4a@usbands.org
SUMMARY:Northern Valley Regional High School at Old Tappan
DTSTART:20220924T120000
DTEND:20220924T151600
DTSTAMP:20260420T114056
LOCATION:Old Tappan\, NJ
DESCRIPTION:Northern Valley Regional High School at Old Tappan
END:VEVENT
END:VCALENDAR
